BEGIN:VCALENDAR
VERSION:2.0
BEGIN:VEVENT
PRODID:-//EventsAdmin//EN
UID:3b6b160f-76c2-45da-ac8c-a1b80daf6c2b@eventsadmin.com
DTSTAMP:20260421T135553Z
TRANSP:TRANSPARENT
DTSTART:20200119T110000
DTEND:20200119T133000
SUMMARY;ENCODING=QUOTED-PRINTABLE:Έξυπνες και Προσβάσιμες Πόλεις - Κυκλική Οικονομία - Ηλεκτροκίνηση
LOCATION;ENCODING=QUOTED-PRINTABLE:ΑΜΦΙΘΕΑΤΡΟ ΤΕΧΝΟΠΟΛΗΣ
DESCRIPTION;ENCODING=QUOTED-PRINTABLE:Επισκόπηση συνεδρίου=0D=0AΤην Κυριακή 19/1 στο Αμφιθέατρο της Τεχνόπολης, θα πραγματοποιηθεί εκδήλωση υπό την αιγίδα της ΚΕΔΕ, παρουσία του Προέδρου της ΚΕΔΕ κ. Παπαστεργίου, του Περιφερειάρχη Αττικής κ. Πατούλη, και του Δημάρχου Αθηναίων κ. Μπακογιάννη. Η εκδήλωση θα εστιάσει σε Πολιτικές και Χρηματοδοτικές Λύσεις για την Τοπική Αυτοδιοίκηση, σε θέματα που αφορούν έξυπνες και προσβάσιμες πόλεις, κυκλική οικονομία και ηλεκτροκίνηση.=0D=0AΘΕΜΑΤΑ ΣΥΝΕΔΡΙΟΥ=0D=0A=0D=0AΗ κλιμάκωση της αστικοποίησης και η επιτακτική ανάγκη εύ
END:VEVENT
END:VCALENDAR
